BEGIN:VCALENDAR
VERSION:2.0
PRODID:gruene-moembris.de
METHOD:PUBLISH
BEGIN:VTIMEZONE
TZID:Europe/Berlin
X-LIC-LOCATION:Europe/Berlin
BEGIN:DAYLIGHT
TZOFFSETFROM:+0100
TZOFFSETTO:+0200
TZNAME:CEST
DTSTART:19700329T020000
RRULE:FREQ=YEARLY;INTERVAL=1;BYDAY=-1SU;BYMONTH=3
END:DAYLIGHT
BEGIN:STANDARD
TZOFFSETFROM:+0200
TZOFFSETTO:+0100
TZNAME:CET
DTSTART:19701025T030000
RRULE:FREQ=YEARLY;INTERVAL=1;BYDAY=-1SU;BYMONTH=10
END:STANDARD
END:VTIMEZONE
BEGIN:VEVENT
UID:26c9da034ede11258f0c050fa8b3faf6@gruene-moembris.de
URL;VALUE=URI:https://gruene-moembris.de/termine/webinar-frauen-macht-ki-
 2/
LOCATION:Online
SUMMARY:Webinar: Frauen.Macht.KI
DESCRIPTION;ALTREP="data:text/html,%3Cp%3EK%C3%BCnstliche%20Intelligenz%2
 0ver%C3%A4ndert%20unsere%20Welt%20%E2%80%93%20und%20wir%20wollen%2C%20das
 s%20Frauen%20sie%20mitgestalten%21%20Du%20interessierst%20dich%20f%C3%BCr
 %20digitale%20Zukunftsthemen%2C%20f%C3%BChlst%20dich%20aber%20bei%20%22KI
 %22%20noch%20au%C3%9Fen%20vor%3F%20Dann%20bist%20du%20bei%20Frauen.KI.Mac
 ht%20genau%20richtig%21%20In%20diesem%20zweist%C3%BCndigen%20Online-Kurs%
 20zeigt%20dir%20Dr.%20Bianca%20Pircher%20%28u.a.%20Kreisgesch%C3%A4ftsf%C
 3%BChrerin%20KV%20N%C3%BCrnberg%20Land%20und%20Mitglied%20im%20Bezirksvor
 stand%20Mittelfranken%29%20einfach%20und%20praxisnah%2C%20wie%20du%20KI-T
 ools%20sinnvoll%20einsetzen%20kannst%20%E2%80%93%20sei%20es%20im%20Ehrena
 mt%20bei%20den%20GR%C3%9CNEN%20oder%20f%C3%BCr%20deine%20pers%C3%B6nliche
 n%20Projekte.%20Ziel%20ist%20es%2C%20Ber%C3%BChrungs%C3%A4ngste%20abzubau
 en%20und%20Frauen%20zu%20bef%C3%A4higen%2C%20die%20digitale%20Zukunft%20s
 elbstbewusst%20mitzugestalten.%20Es%20sind%20keine%20Vorkenntnisse%20n%C3
 %B6tig%20%E2%80%93%20Offenheit%20und%20Interesse%20reichen%20vollkommen%2
 0aus.%3Cbr%20%2F%3E%0A%3Cbr%20%2F%3E%0AF%C3%BCr%20wen%3A%20Frauen%3Cbr%20
 %2F%3E%0ADauer%3A%20ca.%202%20h%3Cbr%20%2F%3E%0ATermin%3A%207.5.2026%2C%2
 019%20Uhr%3Cbr%20%2F%3E%0AKosten%3A%20kostenloses%20Angebot%20des%20Lande
 sverbandes%3Cbr%20%2F%3E%0A%3Cbr%20%2F%3E%0A%3Ca%20href%3D%22https%3A%2F%
 2Fwww.gruene-bayern.de%2Funsere-angebote-fuer-frauen-mit-anmeldemoeglichk
 eit%2F%22%3EAnmeldung%3C%2Fa%3E%20%3Cbr%20%2F%3E%0A%3C%2Fp%3E":Künstlich
 e Intelligenz verändert unsere Welt – und wir wollen\, dass Frauen sie
  mitgestalten! Du interessierst dich für digitale Zukunftsthemen\, fühl
 st dich aber bei "KI" noch außen vor? Dann bist du bei Frauen.KI.Macht g
 enau richtig! In diesem zweistündigen Online-Kurs zeigt dir Dr. Bianca P
 ircher (u.a. Kreisgeschäftsführerin KV Nürnberg Land und Mitglied im B
 ezirksvorstand Mittelfranken) einfach und praxisnah\, wie du KI-Tools sin
 nvoll einsetzen kannst – sei es im Ehrenamt bei den GRÜNEN oder für d
 eine persönlichen Projekte. Ziel ist es\, Berührungsängste abzubauen u
 nd Frauen zu befähigen\, die digitale Zukunft selbstbewusst mitzugestalt
 en. Es sind keine Vorkenntnisse nötig – Offenheit und Interesse reiche
 n vollkommen aus.\n\nFür wen: Frauen\n\nDauer: ca. 2 h\n\nTermin: 7.5.20
 26\, 19 Uhr\n\nKosten: kostenloses Angebot des Landesverbandes\n\nAnmeldu
 ng
CLASS:PUBLIC
DTSTART;TZID=Europe/Berlin:20260507T190000
DTEND;TZID=Europe/Berlin:20260507T210000
DTSTAMP:20260420T154634
END:VEVENT
END:VCALENDAR